BEGIN:VCALENDAR
VERSION:2.0
PRODID:-//Fraunhofer-Gesellschaft// //DEUTSCH
BEGIN:VEVENT
UID:5043fdbf-8f72-43e4-94c3-6d9b38ba1d67
DTSTAMP:20260416T192115Z
SUMMARY:»The Future of Thermodynamics«
DTSTART:20260925T080000Z
DTEND:20260924T220000Z
END:VEVENT
END:VCALENDAR
